BEGIN:VCALENDAR
PRODID:-//eluceo/ical//2.0/EN
VERSION:2.0
CALSCALE:GREGORIAN
BEGIN:VEVENT
UID:d7f56f980f37e2d8e0f7cb9447f36256
DTSTAMP:20260419T125812Z
SUMMARY:"Köp 2 och Lämna 1"
DESCRIPTION:Talare: \n\nHjälp oss hjälpa!Dags för en favorit i repris! P
 å skärtorsdagen står vi på Ica Järvsö och genomför vår uppskattade
  aktivitet köp 2 lämna 1. Varorna vi samlar in delas ut till behövande 
 i samarbete med Ljusnans pastorat. Vi ska vara på plats mellan  kl 14-18 
 på skärtorsdagen. Nu undrar vi vilka av våra medlemmar som kan tänka s
 ig vara med på plats?Hoppas du vill vara med!Anmälan sker till Sanne på
  SMS 070-5296969Pass 1\; kl 14-16Pass 2\; kl 16-18/Styrelsen\n\n
URL:https://jarvso.rotary2335.se/sv/agenda/show/217782
DTSTART;TZID=Europe/Zurich:20260402T150000
DTEND;TZID=Europe/Zurich:20260402T190000
LOCATION:Ica Järvsö
CATEGORIES:Rotary
END:VEVENT
BEGIN:VTIMEZONE
TZID:Europe/Zurich
BEGIN:DAYLIGHT
DTSTART:20260402T150000
TZNAME:CEST
TZOFFSETTO:+0200
TZOFFSETFROM:+0200
END:DAYLIGHT
END:VTIMEZONE
END:VCALENDAR
