BEGIN:VCALENDAR
PRODID:-//eluceo/ical//2.0/EN
VERSION:2.0
CALSCALE:GREGORIAN
BEGIN:VEVENT
UID:21b3579fd2d191c3acd1294386e594a7
DTSTAMP:20260424T084642Z
SUMMARY:De Blå Zonerna
DESCRIPTION:Talare: Hej Rotaryvänner!Vi startar vår nya programpunkt kuns
 kapsträffar med ett spännande och livsbejakande tema:De Blå Zonerna 
 – platserna i världen där människor lever längst och mår bäst.Vad 
 kan vi lära av deras sätt att leva\, äta och umgås? När: Måndag 3 
 november Tid: 18.00 (observera tidigare starttid!) Var: Solbacken\, J
 ärvsöTillsammans lagar vi en middag inspirerad av de blå zonerna\, und
 er ledning av Mattias Parkow.Kostnad: 150 kr/person\, dryck betalas sepa
 rat.Allt betalas på plats. Anmäl dig senast 27 oktober till amanda.sa
 ndahl@gmail.comMeddela eventuella kostavvikelser vid anmälan. Förbered 
 dig gärna:Se Netflix-serien ”Live to 100: Secrets of the Blue Zones”
 eller läs någon av dessa inspirerande böcker:”De blå zonerna: 9 heml
 igheter för ett långt liv” – Dan Buettner”Långliv: de blå zoner
 na i praktiken” – Dan Buettner”Hälsorevolutionen: vägen till en a
 ntiinflammatorisk livsstil” – Maria BoreliusDu är varmt välkommen a
 tt ta med någon eller några som är nyfikna på vår Rotaryklubb och vil
 l dela en inspirerande kväll med god mat\, lärande och gemenskap.Vi ser 
 fram emot att ses!Vänliga hälsningar\,Järvsö Rotaryklubb
URL:https://jarvso.rotary2335.se/sv/agenda/show/215315
DTSTART;TZID=Europe/Zurich:20251103T180000
DTEND;TZID=Europe/Zurich:20251103T210000
LOCATION:Solbacken i Järvsö
CATEGORIES:Rotary
END:VEVENT
BEGIN:VTIMEZONE
TZID:Europe/Zurich
BEGIN:STANDARD
DTSTART:20251103T180000
TZNAME:CET
TZOFFSETTO:+0100
TZOFFSETFROM:+0100
END:STANDARD
END:VTIMEZONE
END:VCALENDAR
